Name | Last modified | Size | Description | |
---|---|---|---|---|
Parent Directory | - | |||
buildbin-out.txt | 03-Jul-2024 23:19 | 4.5K | ||
buildbin-summary.dcf | 03-Jul-2024 23:19 | 545 | ||
buildsrc-out.txt | 03-Jul-2024 23:19 | 790 | ||
buildsrc-summary.dcf | 03-Jul-2024 23:19 | 471 | ||
checksrc-out.txt | 03-Jul-2024 23:19 | 4.7K | ||
checksrc-summary.dcf | 03-Jul-2024 23:19 | 472 | ||
install-out.txt | 03-Jul-2024 23:19 | 4.3K | ||
install-summary.dcf | 03-Jul-2024 23:19 | 278 | ||