Name | Last modified | Size | Description | |
---|---|---|---|---|
Parent Directory | - | |||
buildbin-out.txt | 03-Jul-2024 23:22 | 4.5K | ||
buildbin-summary.dcf | 03-Jul-2024 23:22 | 528 | ||
buildsrc-out.txt | 03-Jul-2024 23:22 | 909 | ||
buildsrc-summary.dcf | 03-Jul-2024 23:22 | 427 | ||
checksrc-out.txt | 03-Jul-2024 23:22 | 3.7K | ||
checksrc-summary.dcf | 03-Jul-2024 23:22 | 443 | ||
install-out.txt | 03-Jul-2024 23:22 | 2.6K | ||
install-summary.dcf | 03-Jul-2024 23:22 | 269 | ||