Index of /checkResults/release/bioc-LATEST/BiGGR/raw-results
Name
Last modified
Size
Description
Parent Directory
-
info.dcf
03-Jul-2024 23:17
278
kunpeng2/
10-May-2024 00:40
-
nebbiolo1/
03-Jul-2024 23:18
-
palomino3/
29-Jun-2024 06:41
-
palomino7/
03-Jul-2024 23:19
-