Name | Last modified | Size | Description | |
---|---|---|---|---|
Parent Directory | - | |||
buildsrc-out.txt | 26-Jun-2024 06:39 | 848 | ||
buildsrc-summary.dcf | 26-Jun-2024 06:39 | 427 | ||
checksrc-out.txt | 26-Jun-2024 06:39 | 4.3K | ||
checksrc-summary.dcf | 26-Jun-2024 06:39 | 426 | ||
install-out.txt | 26-Jun-2024 06:39 | 2.2K | ||
install-summary.dcf | 26-Jun-2024 06:39 | 265 | ||