Name | Last modified | Size | Description | |
---|---|---|---|---|
Parent Directory | - | |||
install-summary.dcf | 26-Jun-2024 06:39 | 250 | ||
install-out.txt | 26-Jun-2024 06:39 | 960 | ||
buildsrc-out.txt | 26-Jun-2024 06:39 | 789 | ||
buildsrc-summary.dcf | 26-Jun-2024 06:39 | 404 | ||
checksrc-out.txt | 26-Jun-2024 06:39 | 3.2K | ||
checksrc-summary.dcf | 26-Jun-2024 06:39 | 396 | ||