Name | Last modified | Size | Description | |
---|---|---|---|---|
Parent Directory | - | |||
buildsrc-out.txt | 03-Jul-2024 23:18 | 873 | ||
buildsrc-summary.dcf | 03-Jul-2024 23:18 | 331 | ||
checksrc-out.txt | 29-Jun-2024 06:39 | 3.5K | ||
checksrc-summary.dcf | 29-Jun-2024 06:39 | 413 | ||
install-out.txt | 03-Jul-2024 23:18 | 632 | ||
install-summary.dcf | 03-Jul-2024 23:18 | 260 | ||