Name | Last modified | Size | Description | |
---|---|---|---|---|
Parent Directory | - | |||
buildbin-out.txt | 03-Jul-2024 23:21 | 4.4K | ||
buildbin-summary.dcf | 03-Jul-2024 23:21 | 529 | ||
buildsrc-out.txt | 03-Jul-2024 23:21 | 909 | ||
buildsrc-summary.dcf | 03-Jul-2024 23:21 | 428 | ||
checksrc-out.txt | 03-Jul-2024 23:21 | 3.9K | ||
checksrc-summary.dcf | 03-Jul-2024 23:21 | 444 | ||
install-out.txt | 03-Jul-2024 23:21 | 2.6K | ||
install-summary.dcf | 03-Jul-2024 23:21 | 269 | ||