Name | Last modified | Size | Description | |
---|---|---|---|---|
Parent Directory | - | |||
bioc-LATEST/ | 26-Jun-2024 06:44 | - | ||
bioc-longtests-LATEST/ | 23-Jun-2024 12:55 | - | ||
bioc-mac-arm64-LATEST/ | 08-May-2024 00:32 | - | ||
bioc-testing-LATEST/ | 27-Jun-2024 00:15 | - | ||
books-LATEST/ | 27-Jun-2024 03:00 | - | ||
data-annotation-LATEST/ | 26-Jun-2024 21:30 | - | ||
data-experiment-LATEST/ | 26-Jun-2024 03:51 | - | ||
workflows-LATEST/ | 26-Jun-2024 05:30 | - | ||