Name | Last modified | Size | Description | |
---|---|---|---|---|
Parent Directory | - | |||
buildbin-out.txt | 21-May-2024 00:32 | 1.1K | ||
buildbin-summary.dcf | 21-May-2024 00:32 | 566 | ||
buildsrc-out.txt | 21-May-2024 00:32 | 880 | ||
buildsrc-summary.dcf | 21-May-2024 00:32 | 445 | ||
checksrc-out.txt | 21-May-2024 00:32 | 4.5K | ||
checksrc-summary.dcf | 21-May-2024 00:32 | 472 | ||
install-out.txt | 21-May-2024 00:32 | 884 | ||
install-summary.dcf | 21-May-2024 00:32 | 281 | ||