Name | Last modified | Size | Description | |
---|---|---|---|---|
Parent Directory | - | |||
buildbin-out.txt | 10-May-2024 00:32 | 7.4K | ||
buildbin-summary.dcf | 10-May-2024 00:32 | 512 | ||
buildsrc-out.txt | 21-May-2024 00:32 | 9.8K | ||
buildsrc-summary.dcf | 21-May-2024 00:32 | 337 | ||
checksrc-out.txt | 14-May-2024 00:32 | 8.1K | ||
checksrc-summary.dcf | 14-May-2024 00:32 | 432 | ||
install-out.txt | 21-May-2024 00:32 | 7.3K | ||
install-summary.dcf | 21-May-2024 00:32 | 263 | ||