Index of /checkResults/devel/bioc-mac-arm64-LATEST/tenXplore/raw-results/kjohnson1
Name
Last modified
Size
Description
Parent Directory
-
buildsrc-out.txt
21-May-2024 00:32
903
buildsrc-summary.dcf
21-May-2024 00:32
346
install-out.txt
21-May-2024 00:32
701
install-summary.dcf
21-May-2024 00:32
275