Name | Last modified | Size | Description | |
---|---|---|---|---|
Parent Directory | - | |||
buildbin-out.txt | 21-May-2024 00:32 | 5.0K | ||
buildbin-summary.dcf | 21-May-2024 00:32 | 549 | ||
buildsrc-out.txt | 21-May-2024 00:32 | 898 | ||
buildsrc-summary.dcf | 21-May-2024 00:32 | 437 | ||
checksrc-out.txt | 21-May-2024 00:32 | 4.5K | ||
checksrc-summary.dcf | 21-May-2024 00:32 | 456 | ||
install-out.txt | 21-May-2024 00:32 | 2.8K | ||
install-summary.dcf | 21-May-2024 00:32 | 275 | ||