Name | Last modified | Size | Description | |
---|---|---|---|---|
Parent Directory | - | |||
buildbin-out.txt | 21-May-2024 00:32 | 1.3K | ||
buildbin-summary.dcf | 21-May-2024 00:32 | 548 | ||
buildsrc-out.txt | 21-May-2024 00:32 | 891 | ||
buildsrc-summary.dcf | 21-May-2024 00:32 | 437 | ||
checksrc-out.txt | 21-May-2024 00:32 | 5.0K | ||
checksrc-summary.dcf | 21-May-2024 00:32 | 456 | ||
install-out.txt | 21-May-2024 00:32 | 1.1K | ||
install-summary.dcf | 21-May-2024 00:32 | 275 | ||