Back to Mac ARM64 build report for BioC 3.20 |
|
This page was generated on 2024-05-20 11:32:03 -0400 (Mon, 20 May 2024).
Hostname | OS | Arch (*) | R version | Installed pkgs |
---|---|---|---|---|
kjohnson1 | macOS 13.6.6 Ventura | arm64 | 4.4.0 Patched (2024-04-24 r86482) -- "Puppy Cup" | 4381 |
Click on any hostname to see more info about the system (e.g. compilers) (*) as reported by 'uname -p', except on Windows and Mac OS X |
To the developers/maintainers of the oligoClasses package: - Use the following Renviron settings to reproduce errors and warnings. - If 'R CMD check' started to fail recently on the Linux builder(s) over a missing dependency, add the missing dependency to 'Suggests:' in your DESCRIPTION file. See Renviron.bioc for more information. |
Package 1409/2233 | Hostname | OS / Arch | INSTALL | BUILD | CHECK | BUILD BIN | ||||||||
oligoClasses 1.67.0 (landing page) Benilton Carvalho
| kjohnson1 | macOS 13.6.6 Ventura / arm64 | OK | OK | WARNINGS | OK | ||||||||
QUICK STATS | OS / Arch | INSTALL | BUILD | CHECK | BUILD BIN | |||||||||||||||||
kjohnson1 | macOS 13.6.6 Ventura / arm64 |
|
|
|
| |||||||||||||||||
Package 1/12 | Hostname | OS / Arch | INSTALL | BUILD | CHECK | BUILD BIN | ||||||||||||||||
affycoretools 1.77.0 (landing page) James W. MacDonald
| kjohnson1 | macOS 13.6.6 Ventura / arm64 | OK | OK | OK | OK | ||||||||||||||||
Package 2/12 | Hostname | OS / Arch | INSTALL | BUILD | CHECK | BUILD BIN | ||||||||||||||||
cn.farms 1.53.0 (landing page) Andreas Mitterecker
| kjohnson1 | macOS 13.6.6 Ventura / arm64 | OK | OK | OK | OK | ||||||||||||||||
Package 3/12 | Hostname | OS / Arch | INSTALL | BUILD | CHECK | BUILD BIN | ||||||||||||||||
crlmm 1.63.0 (landing page) Benilton S Carvalho
| kjohnson1 | macOS 13.6.6 Ventura / arm64 | OK | OK | WARNINGS | OK | ||||||||||||||||
Package 4/12 | Hostname | OS / Arch | INSTALL | BUILD | CHECK | BUILD BIN | ||||||||||||||||
frma 1.57.0 (landing page) Matthew N. McCall
| kjohnson1 | macOS 13.6.6 Ventura / arm64 | OK | OK | OK | OK | ||||||||||||||||
Package 5/12 | Hostname | OS / Arch | INSTALL | BUILD | CHECK | BUILD BIN | ||||||||||||||||
ITALICS 2.65.0 (landing page) Guillem Rigaill
| kjohnson1 | macOS 13.6.6 Ventura / arm64 | OK | OK | OK | OK | ||||||||||||||||
Package 6/12 | Hostname | OS / Arch | INSTALL | BUILD | CHECK | BUILD BIN | ||||||||||||||||
mBPCR 1.59.0 (landing page) P.M.V. Rancoita
| kjohnson1 | macOS 13.6.6 Ventura / arm64 | OK | OK | OK | OK | ||||||||||||||||
Package 7/12 | Hostname | OS / Arch | INSTALL | BUILD | CHECK | BUILD BIN | ||||||||||||||||
mimager 1.29.0 (landing page) Aaron Wolen
| kjohnson1 | macOS 13.6.6 Ventura / arm64 | OK | OK | OK | OK | ||||||||||||||||
Package 8/12 | Hostname | OS / Arch | INSTALL | BUILD | CHECK | BUILD BIN | ||||||||||||||||
MinimumDistance 1.49.0 (landing page) Robert Scharpf
| kjohnson1 | macOS 13.6.6 Ventura / arm64 | OK | OK | WARNINGS | OK | ||||||||||||||||
Package 9/12 | Hostname | OS / Arch | INSTALL | BUILD | CHECK | BUILD BIN | ||||||||||||||||
oligo 1.69.0 (landing page) Benilton Carvalho
| kjohnson1 | macOS 13.6.6 Ventura / arm64 | OK | OK | WARNINGS | OK | ||||||||||||||||
Package 10/12 | Hostname | OS / Arch | INSTALL | BUILD | CHECK | BUILD BIN | ||||||||||||||||
pdInfoBuilder 1.69.0 (landing page) Benilton Carvalho
| kjohnson1 | macOS 13.6.6 Ventura / arm64 | OK | OK | OK | OK | ||||||||||||||||
Package 11/12 | Hostname | OS / Arch | INSTALL | BUILD | CHECK | BUILD BIN | ||||||||||||||||
puma 3.47.0 (landing page) Xuejun Liu
| kjohnson1 | macOS 13.6.6 Ventura / arm64 | OK | OK | WARNINGS | OK | ||||||||||||||||
Package 12/12 | Hostname | OS / Arch | INSTALL | BUILD | CHECK | BUILD BIN | ||||||||||||||||
VanillaICE 1.67.0 (landing page) Robert Scharpf
| kjohnson1 | macOS 13.6.6 Ventura / arm64 | OK | OK | OK | OK | ||||||||||||||||