Back to Mac ARM64 build report for BioC 3.20 |
|
This page was generated on 2024-05-20 11:32:03 -0400 (Mon, 20 May 2024).
Hostname | OS | Arch (*) | R version | Installed pkgs |
---|---|---|---|---|
kjohnson1 | macOS 13.6.6 Ventura | arm64 | 4.4.0 Patched (2024-04-24 r86482) -- "Puppy Cup" | 4381 |
Click on any hostname to see more info about the system (e.g. compilers) (*) as reported by 'uname -p', except on Windows and Mac OS X |
To the developers/maintainers of the mixOmics package: - Use the following Renviron settings to reproduce errors and warnings. - If 'R CMD check' started to fail recently on the Linux builder(s) over a missing dependency, add the missing dependency to 'Suggests:' in your DESCRIPTION file. See Renviron.bioc for more information. |
Package 1259/2233 | Hostname | OS / Arch | INSTALL | BUILD | CHECK | BUILD BIN | ||||||||
mixOmics 6.29.0 (landing page) Max Bladen
| kjohnson1 | macOS 13.6.6 Ventura / arm64 | OK | OK | OK | OK | ||||||||
QUICK STATS | OS / Arch | INSTALL | BUILD | CHECK | BUILD BIN | |||||||||||||||||
kjohnson1 | macOS 13.6.6 Ventura / arm64 |
|
|
|
| |||||||||||||||||
Package 1/6 | Hostname | OS / Arch | INSTALL | BUILD | CHECK | BUILD BIN | ||||||||||||||||
AlpsNMR 4.7.0 (landing page) Sergio Oller Moreno
| kjohnson1 | macOS 13.6.6 Ventura / arm64 | OK | OK | OK | OK | ||||||||||||||||
Package 2/6 | Hostname | OS / Arch | INSTALL | BUILD | CHECK | BUILD BIN | ||||||||||||||||
benchdamic 1.11.0 (landing page) Matteo Calgaro
| kjohnson1 | macOS 13.6.6 Ventura / arm64 | OK | OK | OK | OK | ||||||||||||||||
Package 3/6 | Hostname | OS / Arch | INSTALL | BUILD | CHECK | BUILD BIN | ||||||||||||||||
DepecheR 1.21.0 (landing page) Jakob Theorell
| kjohnson1 | macOS 13.6.6 Ventura / arm64 | OK | OK | OK | OK | ||||||||||||||||
Package 4/6 | Hostname | OS / Arch | INSTALL | BUILD | CHECK | BUILD BIN | ||||||||||||||||
PLSDAbatch 1.1.0 (landing page) Yiwen (Eva) Wang
| kjohnson1 | macOS 13.6.6 Ventura / arm64 | OK | OK | OK | OK | ||||||||||||||||
Package 5/6 | Hostname | OS / Arch | INSTALL | BUILD | CHECK | BUILD BIN | ||||||||||||||||
POMA 1.15.0 (landing page) Pol Castellano-Escuder
| kjohnson1 | macOS 13.6.6 Ventura / arm64 | OK | OK | OK | OK | ||||||||||||||||
Package 6/6 | Hostname | OS / Arch | INSTALL | BUILD | CHECK | BUILD BIN | ||||||||||||||||
timeOmics 1.17.0 (landing page) Antoine Bodein
| kjohnson1 | macOS 13.6.6 Ventura / arm64 | OK | OK | WARNINGS | OK | ||||||||||||||||