Name | Last modified | Size | Description | |
---|---|---|---|---|
Parent Directory | - | |||
buildbin-out.txt | 21-May-2024 00:32 | 1.7K | ||
buildbin-summary.dcf | 21-May-2024 00:32 | 596 | ||
buildsrc-out.txt | 21-May-2024 00:32 | 1.3K | ||
buildsrc-summary.dcf | 21-May-2024 00:32 | 460 | ||
checksrc-out.txt | 21-May-2024 00:32 | 11K | ||
checksrc-summary.dcf | 21-May-2024 00:32 | 488 | ||
install-out.txt | 21-May-2024 00:32 | 1.5K | ||
install-summary.dcf | 21-May-2024 00:32 | 291 | ||