Index of /checkResults/devel/bioc-mac-arm64-LATEST/easyRNASeq/raw-results/kjohnson1
Name
Last modified
Size
Description
Parent Directory
-
buildsrc-out.txt
21-May-2024 00:32
1.5K
buildsrc-summary.dcf
21-May-2024 00:32
349
install-out.txt
21-May-2024 00:32
1.3K
install-summary.dcf
21-May-2024 00:32
278