Index of /checkResults/devel/bioc-mac-arm64-LATEST/biosigner/raw-results
Name
Last modified
Size
Description
Parent Directory
-
info.dcf
21-May-2024 00:31
278
kjohnson1/
21-May-2024 00:32
-