Index of /checkResults/devel/bioc-mac-arm64-LATEST/VariantExperiment/raw-results
Name
Last modified
Size
Description
Parent Directory
-
info.dcf
21-May-2024 00:32
284
kjohnson1/
21-May-2024 00:32
-