Index of /checkResults/devel/bioc-mac-arm64-LATEST/SpatialFeatureExperiment/raw-results/kjohnson1
Name
Last modified
Size
Description
Parent Directory
-
buildsrc-out.txt
21-May-2024 00:32
1.2K
buildsrc-summary.dcf
21-May-2024 00:32
377
install-out.txt
21-May-2024 00:32
1.6K
install-summary.dcf
21-May-2024 00:32
302