Name | Last modified | Size | Description | |
---|---|---|---|---|
Parent Directory | - | |||
install-summary.dcf | 21-May-2024 00:32 | 269 | ||
install-out.txt | 21-May-2024 00:32 | 1.1K | ||
checksrc-summary.dcf | 21-May-2024 00:32 | 450 | ||
checksrc-out.txt | 21-May-2024 00:32 | 4.1K | ||
buildsrc-summary.dcf | 21-May-2024 00:32 | 427 | ||
buildsrc-out.txt | 21-May-2024 00:32 | 968 | ||
buildbin-summary.dcf | 21-May-2024 00:32 | 530 | ||
buildbin-out.txt | 21-May-2024 00:32 | 1.3K | ||