Name | Last modified | Size | Description | |
---|---|---|---|---|
Parent Directory | - | |||
install-summary.dcf | 06-Jul-2024 00:41 | 268 | ||
install-out.txt | 06-Jul-2024 00:41 | 10K | ||
checksrc-summary.dcf | 06-Jul-2024 00:41 | 452 | ||
checksrc-out.txt | 06-Jul-2024 00:41 | 12K | ||
buildsrc-summary.dcf | 06-Jul-2024 00:41 | 445 | ||
buildsrc-out.txt | 06-Jul-2024 00:41 | 921 | ||
buildbin-summary.dcf | 06-Jul-2024 00:41 | 501 | ||
buildbin-out.txt | 06-Jul-2024 00:41 | 10K | ||