Name | Last modified | Size | Description | |
---|---|---|---|---|
Parent Directory | - | |||
buildsrc-out.txt | 06-Jul-2024 00:39 | 910 | ||
buildsrc-summary.dcf | 06-Jul-2024 00:39 | 413 | ||
checksrc-out.txt | 06-Jul-2024 00:39 | 11K | ||
checksrc-summary.dcf | 06-Jul-2024 00:39 | 401 | ||
install-out.txt | 06-Jul-2024 00:39 | 5.1K | ||
install-summary.dcf | 06-Jul-2024 00:39 | 252 | ||