Index of /checkResults/devel/bioc-LATEST/xcms/raw-results/merida1
Name
Last modified
Size
Description
Parent Directory
-
install-summary.dcf
12-Jun-2024 04:42
263
install-out.txt
12-Jun-2024 04:42
6.8K
buildsrc-summary.dcf
12-Jun-2024 04:42
337
buildsrc-out.txt
12-Jun-2024 04:42
1.7K