Index of /checkResults/devel/bioc-LATEST/wppi/raw-results/kjohnson3
Name
Last modified
Size
Description
Parent Directory
-
buildsrc-out.txt
20-Jun-2024 01:12
920
buildsrc-summary.dcf
20-Jun-2024 01:12
336
install-out.txt
20-Jun-2024 01:12
686
install-summary.dcf
20-Jun-2024 01:12
265