Name | Last modified | Size | Description | |
---|---|---|---|---|
Parent Directory | - | |||
buildsrc-out.txt | 13-Jul-2024 01:30 | 905 | ||
buildsrc-summary.dcf | 13-Jul-2024 01:30 | 432 | ||
checksrc-out.txt | 13-Jul-2024 01:30 | 6.7K | ||
checksrc-summary.dcf | 13-Jul-2024 01:30 | 426 | ||
install-out.txt | 13-Jul-2024 01:30 | 969 | ||
install-summary.dcf | 13-Jul-2024 01:30 | 265 | ||