Name | Last modified | Size | Description | |
---|---|---|---|---|
Parent Directory | - | |||
install-summary.dcf | 06-Jul-2024 00:44 | 268 | ||
install-out.txt | 06-Jul-2024 00:44 | 2.1K | ||
checksrc-summary.dcf | 06-Jul-2024 00:44 | 443 | ||
checksrc-out.txt | 06-Jul-2024 00:44 | 3.6K | ||
buildsrc-summary.dcf | 06-Jul-2024 00:44 | 427 | ||
buildsrc-out.txt | 06-Jul-2024 00:44 | 909 | ||
buildbin-summary.dcf | 06-Jul-2024 00:44 | 529 | ||
buildbin-out.txt | 06-Jul-2024 00:44 | 4.1K | ||