Index of /checkResults/devel/bioc-LATEST/updateObject/raw-results/kunpeng2
Name
Last modified
Size
Description
Parent Directory
-
buildsrc-out.txt
16-May-2024 02:46
836
buildsrc-summary.dcf
16-May-2024 02:46
441
install-out.txt
16-May-2024 02:46
1.0K
install-summary.dcf
16-May-2024 02:46
278