Name | Last modified | Size | Description | |
---|---|---|---|---|
Parent Directory | - | |||
buildbin-out.txt | 28-Jun-2024 00:39 | 1.2K | ||
buildbin-summary.dcf | 28-Jun-2024 00:39 | 556 | ||
buildsrc-out.txt | 28-Jun-2024 00:39 | 835 | ||
buildsrc-summary.dcf | 28-Jun-2024 00:39 | 440 | ||
checksrc-out.txt | 28-Jun-2024 00:39 | 1.6K | ||
checksrc-summary.dcf | 28-Jun-2024 00:39 | 464 | ||
install-out.txt | 28-Jun-2024 00:39 | 1.0K | ||
install-summary.dcf | 28-Jun-2024 00:39 | 277 | ||