Name | Last modified | Size | Description | |
---|---|---|---|---|
Parent Directory | - | |||
buildsrc-out.txt | 25-Jun-2024 00:38 | 951 | ||
buildsrc-summary.dcf | 25-Jun-2024 00:38 | 445 | ||
checksrc-out.txt | 25-Jun-2024 00:38 | 4.1K | ||
checksrc-summary.dcf | 25-Jun-2024 00:38 | 442 | ||
install-out.txt | 25-Jun-2024 00:38 | 6.8K | ||
install-summary.dcf | 25-Jun-2024 00:38 | 274 | ||