Index of /checkResults/devel/bioc-LATEST/ttgsea/raw-results/palomino6
Name
Last modified
Size
Description
Parent Directory
-
install-summary.dcf
06-Jul-2024 00:41
272
install-out.txt
06-Jul-2024 00:41
962
buildsrc-summary.dcf
06-Jul-2024 00:41
371
buildsrc-out.txt
06-Jul-2024 00:41
3.0K