Name | Last modified | Size | Description | |
---|---|---|---|---|
Parent Directory | - | |||
buildsrc-out.txt | 21-Jun-2024 01:14 | 860 | ||
buildsrc-summary.dcf | 21-Jun-2024 01:14 | 423 | ||
checksrc-out.txt | 21-Jun-2024 01:14 | 6.1K | ||
checksrc-summary.dcf | 21-Jun-2024 01:14 | 419 | ||
install-out.txt | 21-Jun-2024 01:14 | 6.5K | ||
install-summary.dcf | 21-Jun-2024 01:14 | 259 | ||