Name | Last modified | Size | Description | |
---|---|---|---|---|
Parent Directory | - | |||
buildbin-out.txt | 20-Jun-2024 01:12 | 10K | ||
buildbin-summary.dcf | 20-Jun-2024 01:12 | 529 | ||
buildsrc-out.txt | 20-Jun-2024 01:12 | 846 | ||
buildsrc-summary.dcf | 20-Jun-2024 01:12 | 427 | ||
checksrc-out.txt | 20-Jun-2024 01:12 | 6.2K | ||
checksrc-summary.dcf | 20-Jun-2024 01:12 | 449 | ||
install-out.txt | 20-Jun-2024 01:12 | 8.4K | ||
install-summary.dcf | 20-Jun-2024 01:12 | 268 | ||