Name | Last modified | Size | Description | |
---|---|---|---|---|
Parent Directory | - | |||
install-summary.dcf | 06-Jul-2024 00:45 | 245 | ||
install-out.txt | 06-Jul-2024 00:45 | 603 | ||
checksrc-summary.dcf | 05-Jul-2024 00:45 | 397 | ||
checksrc-out.txt | 05-Jul-2024 00:45 | 6.5K | ||
buildsrc-summary.dcf | 06-Jul-2024 00:45 | 316 | ||
buildsrc-out.txt | 06-Jul-2024 00:45 | 865 | ||