Name | Last modified | Size | Description | |
---|---|---|---|---|
Parent Directory | - | |||
buildbin-out.txt | 17-Jul-2024 00:44 | 1.3K | ||
buildbin-summary.dcf | 17-Jul-2024 00:44 | 517 | ||
buildsrc-out.txt | 17-Jul-2024 00:44 | 871 | ||
buildsrc-summary.dcf | 17-Jul-2024 00:44 | 421 | ||
checksrc-out.txt | 17-Jul-2024 00:44 | 6.4K | ||
checksrc-summary.dcf | 17-Jul-2024 00:44 | 435 | ||
install-out.txt | 17-Jul-2024 00:44 | 1.1K | ||
install-summary.dcf | 17-Jul-2024 00:44 | 264 | ||