Name | Last modified | Size | Description | |
---|---|---|---|---|
Parent Directory | - | |||
buildsrc-out.txt | 28-Jun-2024 00:37 | 853 | ||
buildsrc-summary.dcf | 28-Jun-2024 00:37 | 439 | ||
checksrc-out.txt | 28-Jun-2024 00:37 | 3.1K | ||
checksrc-summary.dcf | 28-Jun-2024 00:37 | 436 | ||
install-out.txt | 28-Jun-2024 00:37 | 970 | ||
install-summary.dcf | 28-Jun-2024 00:37 | 270 | ||