Name | Last modified | Size | Description | |
---|---|---|---|---|
Parent Directory | - | |||
install-summary.dcf | 06-Jul-2024 00:45 | 260 | ||
install-out.txt | 06-Jul-2024 00:45 | 627 | ||
checksrc-summary.dcf | 05-Jul-2024 00:45 | 427 | ||
checksrc-out.txt | 05-Jul-2024 00:45 | 3.2K | ||
buildsrc-summary.dcf | 09-Jul-2024 00:45 | 331 | ||
buildsrc-out.txt | 09-Jul-2024 00:45 | 904 | ||