Name | Last modified | Size | Description | |
---|---|---|---|---|
Parent Directory | - | |||
buildbin-out.txt | 12-Jul-2024 01:00 | 18K | ||
buildbin-summary.dcf | 12-Jul-2024 01:00 | 525 | ||
buildsrc-out.txt | 12-Jul-2024 01:00 | 945 | ||
buildsrc-summary.dcf | 12-Jul-2024 01:00 | 462 | ||
checksrc-out.txt | 12-Jul-2024 01:00 | 4.2K | ||
checksrc-summary.dcf | 12-Jul-2024 01:00 | 462 | ||
install-out.txt | 12-Jul-2024 01:00 | 18K | ||
install-summary.dcf | 12-Jul-2024 01:00 | 276 | ||