Name | Last modified | Size | Description | |
---|---|---|---|---|
Parent Directory | - | |||
buildbin-out.txt | 21-Jun-2024 01:15 | 20K | ||
buildbin-summary.dcf | 21-Jun-2024 01:15 | 536 | ||
buildsrc-out.txt | 21-Jun-2024 01:15 | 916 | ||
buildsrc-summary.dcf | 21-Jun-2024 01:15 | 430 | ||
checksrc-out.txt | 21-Jun-2024 01:15 | 4.4K | ||
checksrc-summary.dcf | 21-Jun-2024 01:15 | 453 | ||
install-out.txt | 21-Jun-2024 01:15 | 18K | ||
install-summary.dcf | 21-Jun-2024 01:15 | 271 | ||