Name | Last modified | Size | Description | |
---|---|---|---|---|
Parent Directory | - | |||
buildbin-out.txt | 12-Jun-2024 04:41 | 1.7K | ||
buildbin-summary.dcf | 12-Jun-2024 04:41 | 506 | ||
buildsrc-out.txt | 12-Jun-2024 04:41 | 893 | ||
buildsrc-summary.dcf | 12-Jun-2024 04:41 | 447 | ||
checksrc-out.txt | 12-Jun-2024 04:41 | 3.4K | ||
checksrc-summary.dcf | 12-Jun-2024 04:41 | 441 | ||
install-out.txt | 12-Jun-2024 04:41 | 1.6K | ||
install-summary.dcf | 12-Jun-2024 04:41 | 265 | ||