Name | Last modified | Size | Description | |
---|---|---|---|---|
Parent Directory | - | |||
install-summary.dcf | 17-Jul-2024 00:39 | 256 | ||
install-out.txt | 17-Jul-2024 00:39 | 1.6K | ||
checksrc-summary.dcf | 17-Jul-2024 00:39 | 408 | ||
checksrc-out.txt | 17-Jul-2024 00:39 | 3.4K | ||
buildsrc-summary.dcf | 17-Jul-2024 00:39 | 418 | ||
buildsrc-out.txt | 17-Jul-2024 00:39 | 888 | ||