Name | Last modified | Size | Description | |
---|---|---|---|---|
Parent Directory | - | |||
buildbin-out.txt | 12-Jun-2024 04:42 | 1.8K | ||
buildbin-summary.dcf | 12-Jun-2024 04:42 | 521 | ||
buildsrc-out.txt | 12-Jun-2024 04:42 | 874 | ||
buildsrc-summary.dcf | 12-Jun-2024 04:42 | 423 | ||
checksrc-out.txt | 12-Jun-2024 04:42 | 3.5K | ||
checksrc-summary.dcf | 12-Jun-2024 04:42 | 438 | ||
install-out.txt | 12-Jun-2024 04:42 | 1.7K | ||
install-summary.dcf | 12-Jun-2024 04:42 | 266 | ||