Name | Last modified | Size | Description | |
---|---|---|---|---|
Parent Directory | - | |||
install-summary.dcf | 12-Jun-2024 04:43 | 266 | ||
install-out.txt | 12-Jun-2024 04:43 | 1.7K | ||
buildsrc-summary.dcf | 12-Jun-2024 04:43 | 422 | ||
buildsrc-out.txt | 12-Jun-2024 04:43 | 874 | ||
checksrc-summary.dcf | 12-Jun-2024 04:43 | 438 | ||
checksrc-out.txt | 12-Jun-2024 04:43 | 3.5K | ||
buildbin-summary.dcf | 12-Jun-2024 04:43 | 521 | ||
buildbin-out.txt | 12-Jun-2024 04:43 | 1.8K | ||