Index of /checkResults/devel/bioc-LATEST/sscu/raw-results/kunpeng2
Name
Last modified
Size
Description
Parent Directory
-
buildsrc-out.txt
16-May-2024 02:46
809
buildsrc-summary.dcf
16-May-2024 02:46
419
install-out.txt
16-May-2024 02:46
965
install-summary.dcf
16-May-2024 02:46
264