Name | Last modified | Size | Description | |
---|---|---|---|---|
Parent Directory | - | |||
buildbin-out.txt | 12-Jun-2024 04:42 | 11K | ||
install-out.txt | 12-Jun-2024 04:42 | 9.4K | ||
checksrc-out.txt | 12-Jun-2024 04:42 | 6.8K | ||
buildsrc-out.txt | 12-Jun-2024 04:42 | 890 | ||
buildbin-summary.dcf | 12-Jun-2024 04:42 | 537 | ||
checksrc-summary.dcf | 12-Jun-2024 04:42 | 455 | ||
buildsrc-summary.dcf | 12-Jun-2024 04:42 | 430 | ||
install-summary.dcf | 12-Jun-2024 04:42 | 272 | ||