Name | Last modified | Size | Description | |
---|---|---|---|---|
Parent Directory | - | |||
install-summary.dcf | 17-Jul-2024 00:44 | 271 | ||
install-out.txt | 17-Jul-2024 00:44 | 9.5K | ||
checksrc-summary.dcf | 17-Jul-2024 00:44 | 454 | ||
checksrc-out.txt | 17-Jul-2024 00:44 | 6.4K | ||
buildsrc-summary.dcf | 17-Jul-2024 00:44 | 429 | ||
buildsrc-out.txt | 17-Jul-2024 00:44 | 890 | ||
buildbin-summary.dcf | 17-Jul-2024 00:44 | 536 | ||
buildbin-out.txt | 17-Jul-2024 00:44 | 12K | ||