Index of /checkResults/devel/bioc-LATEST/slalom/raw-results/lconway
Name
Last modified
Size
Description
Parent Directory
-
install-summary.dcf
13-Jul-2024 01:33
270
install-out.txt
13-Jul-2024 01:33
2.3K
buildsrc-summary.dcf
13-Jul-2024 01:33
341
buildsrc-out.txt
13-Jul-2024 01:33
2.5K