Index of /checkResults/devel/bioc-LATEST/slalom/raw-results/kjohnson3
Name
Last modified
Size
Description
Parent Directory
-
buildsrc-out.txt
13-Jul-2024 01:35
2.5K
install-out.txt
13-Jul-2024 01:35
2.3K
buildsrc-summary.dcf
13-Jul-2024 01:35
340
install-summary.dcf
13-Jul-2024 01:35
269