Index of /checkResults/devel/bioc-LATEST/slalom/raw-results/kjohnson1
Name
Last modified
Size
Description
Parent Directory
-
install-summary.dcf
12-Jun-2024 04:43
270
install-out.txt
12-Jun-2024 04:43
2.3K
buildsrc-summary.dcf
12-Jun-2024 04:43
341
buildsrc-out.txt
12-Jun-2024 04:43
2.5K