Name | Last modified | Size | Description | |
---|---|---|---|---|
Parent Directory | - | |||
buildbin-out.txt | 17-Jul-2024 00:41 | 1.1K | ||
buildbin-summary.dcf | 17-Jul-2024 00:41 | 551 | ||
checksrc-summary.dcf | 17-Jul-2024 00:41 | 513 | ||
checksrc-out.txt | 17-Jul-2024 00:41 | 6.5K | ||
buildsrc-summary.dcf | 17-Jul-2024 00:41 | 478 | ||
buildsrc-out.txt | 17-Jul-2024 00:41 | 930 | ||
install-out.txt | 17-Jul-2024 00:41 | 1.0K | ||
install-summary.dcf | 17-Jul-2024 00:41 | 284 | ||